BEGIN:VCALENDAR
VERSION:2.0
PRODID:-//Cottonwood Canyons Foundation - ECPv6.15.20//NONSGML v1.0//EN
CALSCALE:GREGORIAN
METHOD:PUBLISH
X-ORIGINAL-URL:https://cottonwoodcanyons.org
X-WR-CALDESC:Events for Cottonwood Canyons Foundation
REFRESH-INTERVAL;VALUE=DURATION:PT1H
X-Robots-Tag:noindex
X-PUBLISHED-TTL:PT1H
BEGIN:VTIMEZONE
TZID:America/Denver
BEGIN:DAYLIGHT
TZOFFSETFROM:-0700
TZOFFSETTO:-0600
TZNAME:MDT
DTSTART:20220313T090000
END:DAYLIGHT
BEGIN:STANDARD
TZOFFSETFROM:-0600
TZOFFSETTO:-0700
TZNAME:MST
DTSTART:20221106T080000
END:STANDARD
BEGIN:DAYLIGHT
TZOFFSETFROM:-0700
TZOFFSETTO:-0600
TZNAME:MDT
DTSTART:20230312T090000
END:DAYLIGHT
BEGIN:STANDARD
TZOFFSETFROM:-0600
TZOFFSETTO:-0700
TZNAME:MST
DTSTART:20231105T080000
END:STANDARD
BEGIN:DAYLIGHT
TZOFFSETFROM:-0700
TZOFFSETTO:-0600
TZNAME:MDT
DTSTART:20240310T090000
END:DAYLIGHT
BEGIN:STANDARD
TZOFFSETFROM:-0600
TZOFFSETTO:-0700
TZNAME:MST
DTSTART:20241103T080000
END:STANDARD
END:VTIMEZONE
BEGIN:VEVENT
DTSTART;VALUE=DATE:20230603
DTEND;VALUE=DATE:20230604
DTSTAMP:20260424T032747
CREATED:20230123T203931Z
LAST-MODIFIED:20230123T204413Z
UID:14590-1685750400-1685836799@cottonwoodcanyons.org
SUMMARY:National Trails Day (June 3)
DESCRIPTION:VENUE: Temple Quarry Nature Trail\, Parking lot 830 \nFor more information\, please email Joanna Wheelton (jwheelton@cottonwoodcanyons.org)
URL:https://cottonwoodcanyons.org/event/national-trails-day-june-3/
LOCATION:3863 East Big Cottonwood Canyon Road\, Meeting Place\, 3863 East Big Cottonwood Canyon Road\, Cottonwood Heights\, UT 84117\, UT\, United States
CATEGORIES:CCF Events,Public Events,Tours
ATTACH;FMTTYPE=image/jpeg:https://cottonwoodcanyons.org/wp-content/uploads/2023/01/templequarrytrail.jpg
END:VEVENT
END:VCALENDAR