BEGIN:VCALENDAR
VERSION:2.0
PRODID:-//Cottonwood Canyons Foundation - ECPv6.15.20//NONSGML v1.0//EN
CALSCALE:GREGORIAN
METHOD:PUBLISH
X-ORIGINAL-URL:https://cottonwoodcanyons.org
X-WR-CALDESC:Events for Cottonwood Canyons Foundation
REFRESH-INTERVAL;VALUE=DURATION:PT1H
X-Robots-Tag:noindex
X-PUBLISHED-TTL:PT1H
BEGIN:VTIMEZONE
TZID:America/Denver
BEGIN:DAYLIGHT
TZOFFSETFROM:-0700
TZOFFSETTO:-0600
TZNAME:MDT
DTSTART:20220313T090000
END:DAYLIGHT
BEGIN:STANDARD
TZOFFSETFROM:-0600
TZOFFSETTO:-0700
TZNAME:MST
DTSTART:20221106T080000
END:STANDARD
BEGIN:DAYLIGHT
TZOFFSETFROM:-0700
TZOFFSETTO:-0600
TZNAME:MDT
DTSTART:20230312T090000
END:DAYLIGHT
BEGIN:STANDARD
TZOFFSETFROM:-0600
TZOFFSETTO:-0700
TZNAME:MST
DTSTART:20231105T080000
END:STANDARD
BEGIN:DAYLIGHT
TZOFFSETFROM:-0700
TZOFFSETTO:-0600
TZNAME:MDT
DTSTART:20240310T090000
END:DAYLIGHT
BEGIN:STANDARD
TZOFFSETFROM:-0600
TZOFFSETTO:-0700
TZNAME:MST
DTSTART:20241103T080000
END:STANDARD
END:VTIMEZONE
BEGIN:VEVENT
DTSTART;VALUE=DATE:20230715
DTEND;VALUE=DATE:20230716
DTSTAMP:20260425T050426
CREATED:20230123T184904Z
LAST-MODIFIED:20251002T222736Z
UID:14578-1689379200-1689465599@cottonwoodcanyons.org
SUMMARY:Wasatch Wildflower Festival 2023 Snowbird
DESCRIPTION:The Wasatch Wildflower Festival\, held annually across the four Cottonwood Canyons ski areas\, is part of a broader trend of states promoting outdoor experiences as cultural events. Just as debates over Mississippi online sports betting have shaped how policymakers think about leisure and tourism\, the festival highlights how communities tie recreation to local identity and access. Visitors can join guided and self-guided wildflower walks from 9 am to 1 pm\, while partner organizations present exhibits that link conservation with education. The 2023 Festival will be held on the following dates and locations: July 8 (Brighton Ski Resort\, in conjunction with the Brighton Institute’s Brighton Days)\, July 9 (Solitude Mountain Resort)\, July 15 (Snowbird Ski Resort)\, and July 16 (Alta Ski Area). The event is free\, but registration is required. Registration will be open in May\, please check back.
URL:https://cottonwoodcanyons.org/event/wasatch-wildflower-festival-2023-snowbird/
LOCATION:Snowbird Ski and Summer Resort\, 9385 South Snowbird Center Drive\, Snowbird\, UT\, 84092\, United States
CATEGORIES:CCF Events,Public Events,Tours
ATTACH;FMTTYPE=image/jpeg:https://cottonwoodcanyons.org/wp-content/uploads/2021/10/postactivity.jpg
END:VEVENT
BEGIN:VEVENT
DTSTART;VALUE=DATE:20230716
DTEND;VALUE=DATE:20230717
DTSTAMP:20260425T050426
CREATED:20230123T190056Z
LAST-MODIFIED:20230123T190056Z
UID:14581-1689465600-1689551999@cottonwoodcanyons.org
SUMMARY:Wasatch Wildflower Festival 2023 Alta
DESCRIPTION:Held annually\, the Wasatch Wildflower Festival is a multi-day event hosted at the four Cottonwood Canyons ski areas to celebrate the beauty and diversity of wildflowers in the Wasatch Mountains. Guided and self-guided wildflower walks are offered from 9 am to 1 pm\, and other organizations offer exhibits\, as well. The 2023 Festival will be held on the following dates and locations: July 8 (Brighton Ski Resort\, in conjunction with the Brighton Institute’s Brighton Days)\, July 9 (Solitude Mountain Resort)\, July 15 (Snowbird Ski Resort)\, and July 16 (Alta Ski Area). The event is free\, but registration is required. Registration will be open in May\, please check back.
URL:https://cottonwoodcanyons.org/event/wasatch-wildflower-festival-2023-alta/
LOCATION:Alta Ski Area\, 10010 Little Cottonwood Canyon Road\, Alta\, UT\, 84092\, United States
CATEGORIES:CCF Events,Public Events,Tours
END:VEVENT
END:VCALENDAR