BEGIN:VCALENDAR
VERSION:2.0
PRODID:-//Cottonwood Canyons Foundation - ECPv6.15.20//NONSGML v1.0//EN
CALSCALE:GREGORIAN
METHOD:PUBLISH
X-ORIGINAL-URL:https://cottonwoodcanyons.org
X-WR-CALDESC:Events for Cottonwood Canyons Foundation
REFRESH-INTERVAL;VALUE=DURATION:PT1H
X-Robots-Tag:noindex
X-PUBLISHED-TTL:PT1H
BEGIN:VTIMEZONE
TZID:America/Denver
BEGIN:DAYLIGHT
TZOFFSETFROM:-0700
TZOFFSETTO:-0600
TZNAME:MDT
DTSTART:20210314T090000
END:DAYLIGHT
BEGIN:STANDARD
TZOFFSETFROM:-0600
TZOFFSETTO:-0700
TZNAME:MST
DTSTART:20211107T080000
END:STANDARD
BEGIN:DAYLIGHT
TZOFFSETFROM:-0700
TZOFFSETTO:-0600
TZNAME:MDT
DTSTART:20220313T090000
END:DAYLIGHT
BEGIN:STANDARD
TZOFFSETFROM:-0600
TZOFFSETTO:-0700
TZNAME:MST
DTSTART:20221106T080000
END:STANDARD
BEGIN:DAYLIGHT
TZOFFSETFROM:-0700
TZOFFSETTO:-0600
TZNAME:MDT
DTSTART:20230312T090000
END:DAYLIGHT
BEGIN:STANDARD
TZOFFSETFROM:-0600
TZOFFSETTO:-0700
TZNAME:MST
DTSTART:20231105T080000
END:STANDARD
END:VTIMEZONE
BEGIN:VEVENT
DTSTART;TZID=America/Denver:20220218T120000
DTEND;TZID=America/Denver:20220218T140000
DTSTAMP:20260423T104648
CREATED:20211119T192658Z
LAST-MODIFIED:20211201T012359Z
UID:11038-1645185600-1645192800@cottonwoodcanyons.org
SUMMARY:Snowshoe with a Naturalist at Alta
DESCRIPTION:The Cottonwood Canyons Foundation is proud to partner with Alta to offer naturalist-led snowshoe tours through Alta’s famous powder! Join us for a tour to learn about the unique history of Alta and about the flora and fauna of Little Cottonwood Canyon. The tour route goes up the Alta Summer Road\, so please be prepared for an uphill hike with moderate elevation gain. Participants must bring their own snowshoes. \n To register\, please click the link here.
URL:https://cottonwoodcanyons.org/event/snowshoe-with-a-naturalist-at-alta-2022-02-18/2022-02-18/
LOCATION:Alta Ski Area\, 10010 Little Cottonwood Canyon Road\, Alta\, UT\, 84092\, United States
CATEGORIES:Public Events,Tours
ATTACH;FMTTYPE=image/jpeg:https://cottonwoodcanyons.org/wp-content/uploads/2021/11/Snowshoe2.jpg
END:VEVENT
END:VCALENDAR