BEGIN:VCALENDAR
VERSION:2.0
PRODID:-//Cottonwood Canyons Foundation - ECPv6.15.18//NONSGML v1.0//EN
CALSCALE:GREGORIAN
METHOD:PUBLISH
X-ORIGINAL-URL:https://cottonwoodcanyons.org
X-WR-CALDESC:Events for Cottonwood Canyons Foundation
REFRESH-INTERVAL;VALUE=DURATION:PT1H
X-Robots-Tag:noindex
X-PUBLISHED-TTL:PT1H
BEGIN:VTIMEZONE
TZID:America/Denver
BEGIN:DAYLIGHT
TZOFFSETFROM:-0700
TZOFFSETTO:-0600
TZNAME:MDT
DTSTART:20230312T090000
END:DAYLIGHT
BEGIN:STANDARD
TZOFFSETFROM:-0600
TZOFFSETTO:-0700
TZNAME:MST
DTSTART:20231105T080000
END:STANDARD
BEGIN:DAYLIGHT
TZOFFSETFROM:-0700
TZOFFSETTO:-0600
TZNAME:MDT
DTSTART:20240310T090000
END:DAYLIGHT
BEGIN:STANDARD
TZOFFSETFROM:-0600
TZOFFSETTO:-0700
TZNAME:MST
DTSTART:20241103T080000
END:STANDARD
BEGIN:DAYLIGHT
TZOFFSETFROM:-0700
TZOFFSETTO:-0600
TZNAME:MDT
DTSTART:20250309T090000
END:DAYLIGHT
BEGIN:STANDARD
TZOFFSETFROM:-0600
TZOFFSETTO:-0700
TZNAME:MST
DTSTART:20251102T080000
END:STANDARD
END:VTIMEZONE
BEGIN:VEVENT
DTSTART;TZID=America/Denver:20240807T090000
DTEND;TZID=America/Denver:20240807T130000
DTSTAMP:20260420T155516
CREATED:20240502T174010Z
LAST-MODIFIED:20240511T135721Z
UID:18465-1723021200-1723035600@cottonwoodcanyons.org
SUMMARY:Plant Stewardship Volunteer Activity Snowbird Sustainability
DESCRIPTION:Please click on the button below to sign up for this activity via the CCF volunteer portal. \n\nWe are partnering with Snowbird Sustainability for this event. Once you sign up\, you will receive coordination emails about the meeting time and location. \nActivities include: \n\nPulling invasive plant species\nPlanting native wildflowers\n\nAll are welcome!
URL:https://cottonwoodcanyons.org/event/plant-stewardship-volunteer-activity-2-2-3-2-2-2-2-2-2-2-2/
LOCATION:UT
ATTACH;FMTTYPE=image/jpeg:https://cottonwoodcanyons.org/wp-content/uploads/2024/02/11_Musk_Thistle_2.jpg
END:VEVENT
END:VCALENDAR